Workbook

Sheet Trend Analysis (2)
A1: For Additional Resources, you are welcome to visit our: website: WWW.farhatlectures.com; Linkendin: Mansour Farhat; Instagram:Farhatlectures
B4: Trend Analysis
B5: Technical analysis that helps predicting future movements based on historical figures
B9: Income statement figures
D10: 20Y8 | E10: 20Y9 | F10: 20X0 | G10: 20X1 | H10: 20X2
C11: Sales | D11: 1505000 | E11: 1685000 | F11: 1878000 | G11: 2040000 | H11: 2250000
C12: Cost of Goods Sold | D12: -844000 | E12: =-928000 -> -928000 | F12: -1048000 | G12: -1128000 | H12: -1250000
C13: Gross Profit | D13: =D11+D12 -> 661000 | E13: =E11+E12 -> 757000 | F13: =F11+F12 -> 830000 | G13: =G11+G12 -> 912000 | H13: =H11+H12 -> 1000000
C14: Gross Profit Margin | D14: =D13/D11 -> 0.43920266 | E14: =E13/E11 -> 0.44925816 | F14: =F13/F11 -> 0.44195953 | G14: =G13/G11 -> 0.44705882 | H14: =H13/H11 -> 0.44444444
C40: =C11 -> Sales | D40: =C14 -> Gross Profit Margin
B41: 20Y8 | C41: 1505000 | D41: 0.43920266
B42: 20Y9 | C42: 1685000 | D42: 0.44925816
B43: 20X0 | C43: 1878000 | D43: 0.44195953
B44: 20X1 | C44: 2040000 | D44: 0.44705882
B45: 20X2 | C45: 2250000 | D45: 0.44444444

Sheet Outline
A1: For Additional Resources, you are welcome to visit our: website: WWW.farhatlectures.com; Linkendin: Mansour Farhat; Instagram:Farhatlectures
B4: Financial Statements and Ratio Analysis
B7: Topics Covered in this presentation
B8: Financial Statements
B9: Trend Analysis
B10: Liquidity Ratios
B11: Activity Ratios
B12: Profitability Ratios
B13: Solvency Ratios
B14: Investors' Ratios - Market Prospectus

Sheet Financial Statements
A1: For Additional Resources, you are welcome to visit our: website: www.farhatlectures.com; Linkendin: Mansour Farhat; Instagram:Farhatlectures
B3: Financial Statement Analysis
B4: For Internal and External users to make informative decisions
B7: Farhat Co. Balance Sheet As Of December 31, Years 20X1 & 20X2 In Dollars | H7: Farhat Co. Income Statement For the years ended December 31, 20X1 & 20X2 In Dollars
C9: 20X1 | D9: 20X2 | E9: Change in value | F9: Percentage Change | I9: 20X1 | J9: 20X2 | K9: Change in value | L9: Percentage Change
E10: 20X2 - 20X1 | F10: (20X2-20X1)/20X1 | K10: 20X2 - 20X1 | L10: (20X2-20X1)/20X1
B11: Current assets | H11: Sales | I11: =2040000 -> 2040000 | J11: =2250000 -> 2250000 | K11: =J11-I11 -> 210000 | L11: =K11/I11*100% -> 0.10294118
B12: Cash and cash equivalent | C12: 42000 | D12: 62500 | E12: =D12-C12 -> 20500 | F12: =D12/C12-1 -> 0.48809524 | H12: Cost of Goods sold | I12: 1128000 | J12: 1250000 | K12: =J12-I12 -> 122000 | L12: =K12/I12*100% -> 0.10815603
B13: Trading Securities (At fair value) | C13: 78000 | D13: 69250 | E13: =D13-C13 -> -8750 | F13: =D13/C13-1 -> -0.11217949 | H13: Gross Margin | I13: =I11-I12 -> 912000 | J13: =J11-J12 -> 1000000 | K13: =J13-I13 -> 88000 | L13: =K13/I13*100% -> 0.096491228
B14: Accounts receivable | C14: 510000 | D14: 425000 | E14: =D14-C14 -> -85000 | F14: =D14/C14-1 -> -0.16666667 | H14: Selling, General, & Administrative | I14: 172000 | J14: 180000 | K14: =J14-I14 -> 8000 | L14: =K14/I14*100% -> 0.046511628
B15: (Less Allowances for Uncollectible) | C15: -42000 | D15: -41000 | E15: =D15-C15 -> 1000 | F15: =D15/C15-1 -> -0.023809524 | H15: Research and Development | I15: 215000 | J15: 175000 | K15: =J15-I15 -> -40000 | L15: =K15/I15*100% -> -0.18604651
B16: Inventory | C16: 281675 | D16: 321000 | E16: =D16-C16 -> 39325 | F16: =D16/C16-1 -> 0.13961125 | H16: Depreciation Expense | I16: 30000 | J16: 75000 | K16: =J16-I16 -> 45000 | L16: =K16/I16*100% -> 1.5
B17: Prepaid expenses | C17: 7200 | D17: 3000 | E17: =D17-C17 -> -4200 | F17: =D17/C17-1 -> -0.58333333 | H17: Operating Income/Loss | I17: =I13-I14-I15-I16 -> 495000 | J17: =J13-J14-J15-J16 -> 570000 | K17: =J17-I17 -> 75000 | L17: =K17/I17*100% -> 0.15151515
B18: Total current assets | C18: =SUM(C12:C17) -> 876875 | D18: =SUM(D12:D17) -> 839750 | E18: =D18-C18 -> -37125 | F18: =D18/C18-1 -> -0.042337847 | H18: Interest expense | I18: 62000 | J18: 65000 | K18: =J18-I18 -> 3000 | L18: =K18/I18*100% -> 0.048387097
B19: Fixed Assets | H19: Income before income tax | I19: =I17-I18 -> 433000 | J19: =J17-J18 -> 505000 | K19: =J19-I19 -> 72000 | L19: =K19/I19*100% -> 0.16628176
B20: Property Plant and Equipment | C20: 2160000 | D20: 2375000 | E20: =D20-C20 -> 215000 | F20: =D20/C20-1 -> 0.099537037 | H20: Income Tax Expense | I20: =(I19*0.21) -> 90930 | J20: =J19*0.21 -> 106050 | K20: =J20-I20 -> 15120 | L20: =K20/I20*100% -> 0.16628176
B21: (Less Accumulated Depreciation) | C21: -180000 | D21: -225000 | E21: =D21-C21 -> -45000 | F21: =D21/C21-1 -> 0.25 | H21: Net Income | I21: =I19-I20 -> 342070 | J21: =J19-J20 -> 398950 | K21: =J21-I21 -> 56880 | L21: =K21/I21*100% -> 0.16628176
B22: Goodwill and Intangible assets | C22: 42000 | D22: 37500 | E22: =D22-C22 -> -4500 | F22: =D22/C22-1 -> -0.10714286
B23: Total Fixed Assets | C23: =SUM(C20:C22) -> 2022000 | D23: =SUM(D20:D22) -> 2187500 | E23: =D23-C23 -> 165500 | F23: =D23/C23-1 -> 0.081849654
B24: Total Assets | C24: =C18+C23 -> 2898875 | D24: =D18+D23 -> 3027250 | E24: =D24-C24 -> 128375 | F24: =D24/C24-1 -> 0.044284421
H25: Outstanding Shares | I25: 1000000 | J25: Shareholders
B26: =C43-C24 -> 0 | D26: =D43-D24 -> 0 | H26: Dividend per share | I26: 0.15
C27: 20X1 | D27: 20X2 | E27: Change in value | F27: Percentage Change | H27: Dividend payout | I27: =I25*I26 -> 150000
C28: Jan - Dec | D28: Jan - Dec | E28: 20X2 - 20X1 | F28: (20X2-20X1)/20X1
B29: Current liabilities
B30: Accounts payable | C30: 150000 | D30: 171750 | E30: =D30-C30 -> 21750 | F30: =D30/C30-1 -> 0.145
B31: Notes payable | C31: 450000 | D31: 419250 | E31: =D31-C31 -> -30750 | F31: =D31/C31-1 -> -0.068333333
B32: Accrued liabilities | C32: 240000 | D32: 275000 | E32: =D32-C32 -> 35000 | F32: =D32/C32-1 -> 0.14583333
B33: Total current liabilities | C33: =SUM(C30:C32) -> 840000 | D33: =SUM(D30:D32) -> 866000 | E33: =D33-C33 -> 26000 | F33: =D33/C33-1 -> 0.030952381
B34: Noncurrent liabilities
B35: Bonds payable | C35: 720000 | D35: 707500 | E35: =D35-C35 -> -12500 | F35: =D35/C35-1 -> -0.017361111
B36: Total noncurrent liabilities | C36: =SUM(C35) -> 720000 | D36: =SUM(D35) -> 707500 | E36: =D36-C36 -> -12500 | F36: =D36/C36-1 -> -0.017361111
B37: Total liabilities | C37: =C33+C36 -> 1560000 | D37: =D33+D36 -> 1573500 | E37: =D37-C37 -> 13500 | F37: =D37/C37-1 -> 0.0086538462
B38: Stockholders' Equity
B39: Common Stock (40,000 shares - Par value $12) | C39: 480000 | D39: 480000 | E39: =D39-C39 -> 0 | F39: =D39/C39-1 -> 0
B40: Additional Paid-in Capital | C40: 684000 | D40: 684000 | E40: =D40-C40 -> 0 | F40: =D40/C40-1 -> 0
B41: Retained Earnings | C41: =216000-41125 -> 174875 | D41: =343750-54000 -> 289750 | E41: =D41-C41 -> 114875 | F41: =D41/C41-1 -> 0.65689778
B42: Total Equity | C42: =SUM(C39:C41) -> 1338875 | D42: =SUM(D39:D41) -> 1453750 | E42: =D42-C42 -> 114875 | F42: =D42/C42-1 -> 0.085799645
B43: Total liabilities & Equity | C43: =C42+C37 -> 2898875 | D43: =D42+D37 -> 3027250 | E43: =D43-C43 -> 128375 | F43: =D43/C43-1 -> 0.044284421
B46: Farhat Co. Balance Sheet As Of December 31, Years 20X1 & 20X2 In Dollars | H46: Farhat Co. Income Statement For the years ended December 31, 20X1 & 20X2 In Dollars
...

Sheet Investors Ratios-Market 
A1: For Additional Resources, you are welcome to visit our: website: WWW.farhatlectures.com; Linkendin: Mansour Farhat; Instagram:Farhatlectures
C3: Investors Ratios - Market Prospects
C4: Help assessing whether the company is attractive to potential Investors
F7: 20X1 | G7: 20X2 | H7: 20X1 | I7: 20X2
D8: Return on common stockholders' Equity | E8: Net Income - Preferred Dividends | F8: ='Financial Statements'!I21 -> 342070 | G8: ='Financial Statements'!J21 -> 398950 | I8: =G8/G9 -> 0.28571684
E9: Average Common Stockholders' Equity | G9: =('Financial Statements'!C42+'Financial Statements'!D42)/2 -> 1396312.5
D12: Earnings per share | E12: Net Income - Preferred Dividends | F12: =F8 -> 342070 | G12: ='Financial Statements'!J21 -> 398950 | I12: =G12/G13 -> 0.39895
E13: Weighted average common shares outstanding | G13: ='Financial Statements'!I25 -> 1000000
D15: Price Earning Ratio | E15: Price Per Share | G15: 8 | I15: =G15/G16 -> 20.052638
E16: Basic Earnings per Share | G16: =I12 -> 0.39895
D19: Dividend Payout | E19: Cash Dividends | G19: ='Financial Statements'!I27 -> 150000 | I19: =G19/G20 -> 0.37598697
E20: Net Income | F20: ='Financial Statements'!I21 -> 342070 | G20: ='Financial Statements'!J21 -> 398950
D23: Dividend Yield | E23: Annual Cash Dividends per share | G23: ='Financial Statements'!I26 -> 0.15 | I23: =G23/G24 -> 0.023076923
E24: Market Price per Share | G24: 6.5

Sheet Profitability Ratios
A1: For Additional Resources, you are welcome to visit our: website: WWW.farhatlectures.com; Linkendin: Mansour Farhat; Instagram:Farhatlectures
C3: Profitability Ratios
C4: Help Assessing whether a company is profitable in a given period of time
F6: 20X1 | G6: 20X2 | H6: 20X1 | I6: 20X2
D7: Profit Margin | E7: Net Income | F7: ='Financial Statements'!I21 -> 342070 | G7: ='Financial Statements'!J21 -> 398950 | H7: =F7/F8 -> 0.16768137 | I7: =G7/G8 -> 0.17731111
E8: Sales (net) | F8: ='Financial Statements'!I11 -> 2040000 | G8: ='Financial Statements'!J11 -> 2250000
D11: Return On Assets | E11: Net Income | F11: =F7 -> 342070 | G11: =G7 -> 398950 | I11: =G11/G12 -> 0.1346411
E12: Average Total Assets | G12: =SUM('Financial Statements'!D24+'Financial Statements'!C24)/2 -> 2963062.5
D15: Dupont Return On Assets | E15: Net Income x Sales (net) | F15: ='Financial Statements'!J21 -> 398950 | G15: =F16 -> 2250000
E16: Sales (net) Average Total Assets | F16: ='Financial Statements'!J11 -> 2250000 | G16: =('Financial Statements'!C24+'Financial Statements'!D24)/2 -> 2963062.5
F17: =F15/F16 -> 0.17731111 | G17: =G15/G16 -> 0.75934949 | I17: =F17*G17 -> 0.1346411
D19: Return On Equity | E19: Net Income | F19: =F7 -> 342070 | G19: =G7 -> 398950 | I19: =G19/G20 -> 0.28571684
E20: Average Total Equity | G20: =('Financial Statements'!C42+'Financial Statements'!D42)/2 -> 1396312.5
D23: Return on Sales | E23: Income before interest income, interest expense, and taxes | F23: ='Financial Statements'!I17 -> 495000 | G23: ='Financial Statements'!J17 -> 570000 | H23: =F23/F24 -> 0.24264706 | I23: =G23/G24 -> 0.25333333
E24: Sales (net) | F24: =F8 -> 2040000 | G24: =G8 -> 2250000
D27: Gross profit Margin | E27: Sales - COGS | F27: ='Financial Statements'!I13 -> 912000 | G27: ='Financial Statements'!J13 -> 1000000 | H27: =F27/F28 -> 0.44705882 | I27: =G27/G28 -> 0.44444444
E28: Sales | F28: ='Financial Statements'!I11 -> 2040000 | G28: ='Financial Statements'!J11 -> 2250000

Sheet Solvency Ratios
A1: For Additional Resources, you are welcome to visit our: website: WWW.farhatlectures.com; Linkendin: Mansour Farhat; Instagram:Farhatlectures
C3: Solvency Ratios/Coverage Ratios
C4: Help Assessing the company's ability to cover its long-term obligations
F6: 20X1 | G6: 20X2 | H6: 20X1 | I6: 20X2
D7: Debt Ratio | E7: Total Liabilities | F7: ='Financial Statements'!C37 -> 1560000 | G7: ='Financial Statements'!D37 -> 1573500 | H7: =F7/F8 -> 0.5381398 | I7: =G7/G8 -> 0.51977868
E8: Total Assets | F8: ='Financial Statements'!C24 -> 2898875 | G8: ='Financial Statements'!D24 -> 3027250
D9: A = L + E
D11: Equity Ratio | E11: Total Equity | F11: ='Financial Statements'!C42 -> 1338875 | G11: ='Financial Statements'!D42 -> 1453750 | H11: =F11/F12 -> 0.4618602 | I11: =G11/G12 -> 0.48022132
E12: Total Assets | F12: =F8 -> 2898875 | G12: =G8 -> 3027250
D15: Debt-to-Equity Ratio | E15: Total Liabilities | F15: =F7 -> 1560000 | G15: =G7 -> 1573500 | H15: =F15/F16 -> 1.1651573 | I15: =G15/G16 -> 1.0823732
E16: Total Equity | F16: =F11 -> 1338875 | G16: =G11 -> 1453750
D19: Times Interest Earned | E19: Income Before interest and taxes | F19: ='Financial Statements'!I17 -> 495000 | G19: ='Financial Statements'!J17 -> 570000 | H19: =F19/F20 -> 7.983871 | I19: =G19/G20 -> 8.7692308
E20: Interest Expense | F20: ='Financial Statements'!I18 -> 62000 | G20: ='Financial Statements'!J18 -> 65000
D23: Equity Multiplier | E23: Total Assets | F23: =F12 -> 2898875 | G23: =G12 -> 3027250 | H23: =F23/F24 -> 2.1651573 | I23: =G23/G24 -> 2.0823732
E24: Total Equity | F24: =F11 -> 1338875 | G24: =G11 -> 1453750

Sheet Activity Ratios
A1: For Additional Resources, you are welcome to visit our: website: WWW.farhatlectures.com; Linkendin: Mansour Farhat; Instagram:Farhatlectures
B3: Activity Ratios
B4: Help Assessing how effectively and efficiently company's assets are being used
F6: 20X1 | G6: 20X2 | H6: 20X1 | I6: 20X2
D7: Accounts Receivable Turnover | E7: Net Sales | F7: ='Financial Statements'!I11 -> 2040000 | G7: ='Financial Statements'!J11 -> 2250000 | I7: =G7/G8 -> 5.2816901
E8: Average Accounts Receivable | G8: =('Financial Statements'!C14+'Financial Statements'!C15+'Financial Statements'!D14+'Financial Statements'!D15)/2 -> 426000
D11: Average Collection Period | E11: 365 | I11: =E11/I7 -> 69.106667 | J11: Days
E12: =D7 -> Accounts Receivable Turnover
D15: Inventory Turnover | E15: COGS | F15: ='Financial Statements'!I12 -> 1128000 | G15: ='Financial Statements'!J12 -> 1250000 | I15: =G15/G16 -> 4.1481727
E16: Average Inventory | G16: =('Financial Statements'!C16+'Financial Statements'!D16)/2 -> 301337.5
D19: Days In Inventory | E19: 365 | I19: =E19/I15 -> 87.99055 | J19: Days
E20: =D15 -> Inventory Turnover
D23: Accounts Payable Turnover | E23: COGS | F23: =F15 -> 1128000 | G23: =G15 -> 1250000 | I23: =G23/G24 -> 7.7700078
E24: Average Accounts Payable | G24: =('Financial Statements'!D30+'Financial Statements'!C30)/2 -> 160875
D27: Days In Accounts Payable (Days of Payable Outstanding) | E27: 365 | I27: =E27/I23 -> 46.9755 | J27: Days
E28: Days in Accounts Payable | G28: =G20 -> 0
D31: Operating Cycle | E31: Days In A/R + Days in Inventory | I31: =I19+I11 -> 157.09722 | J31: Days
D33: Cash Conversion Cycle | E33: Days In A/R + Days in Inventory - Days in A/P | I33: =I11+I19-I27 -> 110.12172 | J33: Days
D37: Total Assets Turnover | E37: Sales (net) | F37: =F7 -> 2040000 | G37: =G7 -> 2250000 | I37: =G37/G38 -> 0.75934949
E38: Average Total Assets | G38: =('Financial Statements'!C24+'Financial Statements'!D24)/2 -> 2963062.5

Sheet Liquidity Ratios
A1: For Additional Resources, you are welcome to visit our: website: WWW.farhatlectures.com; Linkendin: Mansour Farhat; Instagram:Farhatlectures
B3: Liquidity Ratios
B4: Help Assessing the company's ability to meet its short-term obligations
E6: 20X1 | F6: 20X2 | H6: 20X1 | I6: 20X2
C7: Current Ratio | D7: Current Assets | E7: ='Financial Statements'!C18 -> 876875 | F7: ='Financial Statements'!D18 -> 839750 | H7: =E7/E8 -> 1.0438988 | I7: =F7/F8 -> 0.96968822
D8: Current Liabilities | E8: ='Financial Statements'!C33 -> 840000 | F8: ='Financial Statements'!D33 -> 866000
C11: Quick Ratio Also Called Acid-Test Ratio | D11: Cash And Cash Equivalent + ST marketable Securities + Receivables Net | E11: ='Financial Statements'!C12+'Financial Statements'!C13+'Financial Statements'!C14+'Financial Statements'!C15 -> 588000 | F11: ='Financial Statements'!D12+'Financial Statements'!D13+'Financial Statements'!D14+'Financial Statements'!D15 -> 515750 | H11: =E11/E12 -> 0.7 | I11: =F11/F12 -> 0.59555427
D12: Current Liabilities | E12: =E8 -> 840000 | F12: =F8 -> 866000
D14: Current Assets - Prepaid Expenses - Inventory | E14: ='Financial Statements'!C18-'Financial Statements'!C16-'Financial Statements'!C17 -> 588000 | F14: ='Financial Statements'!D18-'Financial Statements'!D16-'Financial Statements'!D17 -> 515750 | H14: =E14/E15 -> 0.7 | I14: =F14/F15 -> 0.59555427
D15: Current Liabilities | E15: =E12 -> 840000 | F15: =F12 -> 866000
C19: Cash Ratio | D19: Cash and Cash equivalents + Marketable Securities | E19: ='Financial Statements'!C12+'Financial Statements'!C13 -> 120000 | F19: ='Financial Statements'!D12+'Financial Statements'!D13 -> 131750 | H19: =E19/E20 -> 0.14285714 | I19: =F19/F20 -> 0.15213626
D20: Current Liabilities | E20: =E15 -> 840000 | F20: =F15 -> 866000
C22: Current Cash Debt Ratio
D23: Net cash provided by operatuing activities/average current liabilities

Sheet Trend Analysis
A1: For Additional Resources, you are welcome to visit our: website: WWW.farhatlectures.com; Linkendin: Mansour Farhat; Instagram:Farhatlectures
B4: Trend Analysis
B5: Technical analysis that helps predicting future movements based on historical figures
B9: Income statement figures
D10: 20Y8 | E10: 20Y9 | F10: 20X0 | G10: 20X1 | H10: 20X2
C11: Sales | D11: 1505000 | E11: 1685000 | F11: 1878000 | G11: 2040000 | H11: 2250000
C12: Cost of Goods Sold | D12: -844000 | E12: =-928000 -> -928000 | F12: -1048000 | G12: -1128000 | H12: -1250000
C13: Gross Profit | D13: =D11+D12 -> 661000 | E13: =E11+E12 -> 757000 | F13: =F11+F12 -> 830000 | G13: =G11+G12 -> 912000 | H13: =H11+H12 -> 1000000
C14: Gross Profit Margin | D14: =D13/D11 -> 0.43920266 | E14: =E13/E11 -> 0.44925816 | F14: =F13/F11 -> 0.44195953 | G14: =G13/G11 -> 0.44705882 | H14: =H13/H11 -> 0.44444444
C40: =C11 -> Sales | D40: =C14 -> Gross Profit Margin
B41: 20Y8 | C41: 1505000 | D41: 0.43920266
B42: 20Y9 | C42: 1685000 | D42: 0.44925816
B43: 20X0 | C43: 1878000 | D43: 0.44195953
B44: 20X1 | C44: 2040000 | D44: 0.44705882
B45: 20X2 | C45: 2250000 | D45: 0.44444444

Sheet Financial Statements (2)
B2: Financial Statement Analysis
B5: Farhat Co. Balance Sheet As Of December 31, Years 20X1 & 20X2 | I5: Farhat Co. Income Statement For the years ended December 31, 20X1 & 20X2
C7: 20X1 | D7: 20X2 | E7: Change in value | F7: Percentage Change | J7: 20X1 | K7: 20X2 | L7: Change in value | M7: Percentage Change
E8: 20X2 - 20X1 | F8: (20X2-20X1)/20X1 | L8: 20X2 - 20X1 | M8: (20X2-20X1)/20X1
B9: Current assets | I9: Sales | J9: =1700000*1.2 -> 2040000 | K9: =1800000*1.25 -> 2250000 | L9: =K9-J9 -> 210000 | M9: =K9/J9-1 -> 0.10294118
B10: Cash and cash equivalent | C10: =35000*1.2 -> 42000 | D10: =50000*1.25 -> 62500 | E10: =D10-C10 -> 20500 | F10: =D10/C10-1 -> 0.48809524 | I10: Cost of Goods sold | J10: =-940000*1.2 -> -1128000 | K10: =-1000000*1.25 -> -1250000 | L10: =K10-J10 -> -122000 | M10: =K10/J10-1 -> 0.10815603
B11: Trading Securities (At fair value) | C11: =65000*1.2 -> 78000 | D11: =75000*1.25 -> 93750 | E11: =D11-C11 -> 15750 | F11: =D11/C11-1 -> 0.20192308 | I11: Gross Margin | J11: =J9+J10 -> 912000 | K11: =K9+K10 -> 1000000 | L11: =K11-J11 -> 88000 | M11: =K11/J11-1 -> 0.096491228
B12: Accounts receivable | C12: 510000 | D12: 425000 | E12: =D12-C12 -> -85000 | F12: =D12/C12-1 -> -0.16666667 | I12: Selling, General, & Administrative | J12: =-425000 -> -425000 | K12: =-485000 -> -485000 | L12: =K12-J12 -> -60000 | M12: =K12/J12-1 -> 0.14117647
B13: (Less Allowances for Uncollectible) | C13: =-(C12-468000) -> -42000 | D13: =-(D12-375000) -> -50000 | E13: =D13-C13 -> -8000 | F13: =D13/C13-1 -> 0.19047619 | I13: Research and Development | J13: -112364 | K13: =L23-K12-K14 -> -83712.5 | L13: =K13-J13 -> 28651.5 | M13: =K13/J13-1 -> -0.25498825
B14: Inventory | C14: =275000*1.2-48325 -> 281675 | D14: =290000*1.25-41500 -> 321000 | E14: =D14-C14 -> 39325 | F14: =D14/C14-1 -> 0.13961125 | I14: Depreciation Expense | J14: =-35000 -> -35000 | K14: -40000 | L14: =K14-J14 -> -5000 | M14: =K14/J14-1 -> 0.14285714
B15: Prepaid expenses | C15: 48325 | D15: 41500 | E15: =D15-C15 -> -6825 | F15: =D15/C15-1 -> -0.14123125 | I15: Operating Income/Loss | J15: =J11+J12+J13+J14 -> 339636 | K15: =K11+K12+K13+K14 -> 391287.5 | L15: =K15-J15 -> 51651.5 | M15: =K15/J15-1 -> 0.15207899
B16: Total current assets | C16: =SUM(C10:C15) -> 918000 | D16: =SUM(D10:D15) -> 893750 | E16: =D16-C16 -> -24250 | F16: =D16/C16-1 -> -0.026416122 | I16: Interest expense | J16: =-10300*1.2 -> -12360 | K16: =-10000*1.25 -> -12500 | L16: =K16-J16 -> -140 | M16: =K16/J16-1 -> 0.011326861
B17: Fixed Assets | I17: Income before income tax | J17: =J15+J16 -> 327276 | K17: =K15+K16 -> 378787.5 | L17: =K17-J17 -> 51511.5 | M17: =K17/J17-1 -> 0.15739468
B18: Property Plant and Equipment | C18: =1800000*1.2 -> 2160000 | D18: =1900000*1.25 -> 2375000 | E18: =D18-C18 -> 215000 | F18: =D18/C18-1 -> 0.099537037 | I18: Income Tax Expense | J18: =-(J17*0.35) -> -114546.6 | K18: =-K17*0.35 -> -132575.62 | L18: =K18-J18 -> -18029.025 | M18: =K18/J18-1 -> 0.15739468
B19: (Less Accumulated Depreciation) | C19: =-150000*1.2 -> -180000 | D19: =-180000*1.25 -> -225000 | E19: =D19-C19 -> -45000 | F19: =D19/C19-1 -> 0.25 | I19: Net Income | J19: =J17+J18 -> 212729.4 | K19: =K17+K18 -> 246211.88 | L19: =K19-J19 -> 33482.475 | M19: =K19/J19-1 -> 0.15739468
B20: Goodwill and Intangible assets | C20: =35000*1.2 -> 42000 | D20: =30000*1.25 -> 37500 | E20: =D20-C20 -> -4500 | F20: =D20/C20-1 -> -0.10714286
B21: Total Fixed Assets | C21: =SUM(C18:C20) -> 2022000 | D21: =SUM(D18:D20) -> 2187500 | E21: =D21-C21 -> 165500 | F21: =D21/C21-1 -> 0.081849654 | J21: =180000*1.2 -> 216000 | K21: =200000*1.25 -> 250000 | L21: =J11-J21 -> 696000
B22: Total Assets | C22: =C16+C21 -> 2940000 | D22: =D16+D21 -> 3081250 | E22: =D22-C22 -> 141250 | F22: =D22/C22-1 -> 0.048044218 | I22: =180000*1.2 -> 216000 | J22: =200000*1.2 -> 240000 | L22: =313030*1.25 -> 391287.5
L23: =L22-K11 -> -608712.5
C25: 20X1 | D25: 20X2 | E25: Change in value | F25: Percentage Change
C26: Jan - Dec | D26: Jan - Dec | E26: 20X2 - 20X1 | F26: (20X2-20X1)/20X1
B27: Current liabilities
B28: Accounts payable | C28: =125000*(1.2) -> 150000 | D28: =125000*1.25+15500 -> 171750 | E28: =D28-C28 -> 21750 | F28: =D28/C28-1 -> 0.145
B29: Notes payable | C29: =375000*(1.2) -> 450000 | D29: =325000*1.25+13000 -> 419250 | E29: =D29-C29 -> -30750 | F29: =D29/C29-1 -> -0.068333333
B30: Accrued liabilities | C30: =200000*1.2 -> 240000 | D30: =220000*1.25 -> 275000 | E30: =D30-C30 -> 35000 | F30: =D30/C30-1 -> 0.14583333
B31: Total current liabilities | C31: =SUM(C28:C30) -> 840000 | D31: =SUM(D28:D30) -> 866000 | E31: =D31-C31 -> 26000 | F31: =D31/C31-1 -> 0.030952381
B32: Noncurrent liabilities
B33: Bonds payable | C33: =600000*(1.2) -> 720000 | D33: =550000*1.25+20000 -> 707500 | E33: =D33-C33 -> -12500 | F33: =D33/C33-1 -> -0.017361111
B34: Total noncurrent liabilities | C34: =SUM(C33) -> 720000 | D34: =SUM(D33) -> 707500 | E34: =D34-C34 -> -12500 | F34: =D34/C34-1 -> -0.017361111
B35: Total liabilities | C35: =C31+C34 -> 1560000 | D35: =D31+D34 -> 1573500 | E35: =D35-C35 -> 13500 | F35: =D35/C35-1 -> 0.0086538462
B36: Stockholders' Equity
B37: Common Stock | C37: =400000*(1.2) -> 480000 | D37: =400000*(1.2) -> 480000 | E37: =D37-C37 -> 0 | F37: =D37/C37-1 -> 0
B38: Additional Paid-in Capital | C38: =570000*(1.2) -> 684000 | D38: =570000*(1.2) -> 684000 | E38: =D38-C38 -> 0 | F38: =D38/C38-1 -> 0
B39: Retained Earnings | C39: =180000*1.2 -> 216000 | D39: =275000*1.25 -> 343750 | E39: =D39-C39 -> 127750 | F39: =D39/C39-1 -> 0.59143519
B40: Total Equity | C40: =SUM(C37:C39) -> 1380000 | D40: =SUM(D37:D39) -> 1507750 | E40: =D40-C40 -> 127750 | F40: =D40/C40-1 -> 0.092572464
B41: Total liabilities & Equity | C41: =C40+C35 -> 2940000 | D41: =D40+D35 -> 3081250 | E41: =D41-C41 -> 141250 | F41: =D41/C41-1 -> 0.048044218
